BEGIN:VCALENDAR
PRODID:-//github.com/rianjs/ical.net//NONSGML ical.net 4.0//EN
VERSION:2.0
BEGIN:VTIMEZONE
TZID:America/Phoenix
X-LIC-LOCATION:America/Phoenix
END:VTIMEZONE
BEGIN:VEVENT
DESCRIPTION:Desert Code Camp - 2013.1
DTEND;TZID=America/Phoenix:20130420T170000
DTSTAMP:20260421T211542Z
DTSTART;TZID=America/Phoenix:20130420T080000
GEO:33.293070;-111.796620
LOCATION:Chandler - Gilbert Community College
ORGANIZER:
SEQUENCE:0
STATUS:TENTATIVE
SUMMARY:Desert Code Camp - 2013.1
UID:e104b803-b1e2-48a1-a1c6-a2c222f9512b
END:VEVENT
END:VCALENDAR
